Package: doppelgangR Version: 1.28.1 Command: /home/biocbuild/bbs-3.17-bioc/R/bin/R CMD check --install=check:doppelgangR.install-out.txt --library=/home/biocbuild/bbs-3.17-bioc/R/site-library --timings doppelgangR_1.28.1.tar.gz StartedAt: 2023-10-15 20:56:13 -0400 (Sun, 15 Oct 2023) EndedAt: 2023-10-15 21:01:06 -0400 (Sun, 15 Oct 2023) EllapsedTime: 293.5 seconds RetCode: 0 Status: OK CheckDir: doppelgangR.Rcheck Warnings: 0