Package: doppelgangR Version: 1.28.1 Command: /Library/Frameworks/R.framework/Resources/bin/R CMD INSTALL doppelgangR StartedAt: 2023-10-15 16:02:56 -0400 (Sun, 15 Oct 2023) EndedAt: 2023-10-15 16:04:42 -0400 (Sun, 15 Oct 2023) EllapsedTime: 105.8 seconds RetCode: 0 Status: OK