Package: doppelgangR Version: 1.28.1 Command: /Library/Frameworks/R.framework/Resources/bin/R CMD check --install=check:doppelgangR.install-out.txt --library=/Library/Frameworks/R.framework/Resources/library --no-vignettes --timings doppelgangR_1.28.1.tar.gz StartedAt: 2023-10-16 01:06:44 -0400 (Mon, 16 Oct 2023) EndedAt: 2023-10-16 01:18:10 -0400 (Mon, 16 Oct 2023) EllapsedTime: 686.3 seconds RetCode: 0 Status: OK CheckDir: doppelgangR.Rcheck Warnings: 0