Package: doppelgangR Version: 1.28.1 Command: rm -rf doppelgangR.buildbin-libdir && mkdir doppelgangR.buildbin-libdir && /Users/biocbuild/BBS/utils/build-universal.sh doppelgangR_1.28.1.tar.gz /Library/Frameworks/R.framework/Resources/bin/R doppelgangR.buildbin-libdir StartedAt: 2023-10-16 09:18:52 -0400 (Mon, 16 Oct 2023) EndedAt: 2023-10-16 09:20:45 -0400 (Mon, 16 Oct 2023) EllapsedTime: 113.1 seconds RetCode: 0 Status: OK PackageFile: doppelgangR_1.28.1.tgz PackageFileSize: 929.4 KiB