git_url: https://git.bioconductor.org/packages/doppelgangR git_branch: RELEASE_3_17 git_last_commit: 7d1038c git_last_commit_date: 2023-06-16 13:41:04 -0400 (Fri, 16 Jun 2023) Package: doppelgangR Version: 1.28.1 Maintainer: Levi Waldron MaintainerEmail: lwaldron.research at gmail.com