Package: dks Version: 1.46.0 Command: /home/biocbuild/bbs-3.17-bioc/R/bin/R CMD check --install=check:dks.install-out.txt --library=/home/biocbuild/bbs-3.17-bioc/R/site-library --timings dks_1.46.0.tar.gz StartedAt: 2023-10-15 20:52:43 -0400 (Sun, 15 Oct 2023) EndedAt: 2023-10-15 20:53:29 -0400 (Sun, 15 Oct 2023) EllapsedTime: 45.4 seconds RetCode: 0 Status: OK CheckDir: dks.Rcheck Warnings: 0