Package: dks Version: 1.46.0 Command: /home/biocbuild/bbs-3.17-bioc/R/bin/R CMD build --keep-empty-dirs --no-resave-data dks StartedAt: 2023-10-15 16:37:36 -0400 (Sun, 15 Oct 2023) EndedAt: 2023-10-15 16:37:50 -0400 (Sun, 15 Oct 2023) EllapsedTime: 13.6 seconds RetCode: 0 Status: OK PackageFile: dks_1.46.0.tar.gz PackageFileSize: 431.1 KiB