Package: dittoSeq Version: 1.12.2 Command: F:\biocbuild\bbs-3.17-bioc\R\bin\R.exe CMD INSTALL dittoSeq StartedAt: 2023-10-15 16:03:07 -0400 (Sun, 15 Oct 2023) EndedAt: 2023-10-15 16:03:39 -0400 (Sun, 15 Oct 2023) EllapsedTime: 32.1 seconds RetCode: 0 Status: OK