Package: dittoSeq Version: 1.12.2 Command: chmod a+r dittoSeq -R && F:\biocbuild\bbs-3.17-bioc\R\bin\R.exe CMD build --keep-empty-dirs --no-resave-data dittoSeq StartedAt: 2023-10-15 18:47:06 -0400 (Sun, 15 Oct 2023) EndedAt: 2023-10-15 18:49:32 -0400 (Sun, 15 Oct 2023) EllapsedTime: 145.2 seconds RetCode: 0 Status: OK PackageFile: dittoSeq_1.12.2.tar.gz PackageFileSize: 2.489 MiB