Package: dittoSeq Version: 1.12.2 Command: /home/biocbuild/bbs-3.17-bioc/R/bin/R CMD INSTALL dittoSeq StartedAt: 2023-10-15 15:15:09 -0400 (Sun, 15 Oct 2023) EndedAt: 2023-10-15 15:15:35 -0400 (Sun, 15 Oct 2023) EllapsedTime: 26.0 seconds RetCode: 0 Status: OK