Package: dittoSeq Version: 1.12.2 Command: /home/biocbuild/bbs-3.17-bioc/R/bin/R CMD check --install=check:dittoSeq.install-out.txt --library=/home/biocbuild/bbs-3.17-bioc/R/site-library --timings dittoSeq_1.12.2.tar.gz StartedAt: 2023-10-15 20:52:24 -0400 (Sun, 15 Oct 2023) EndedAt: 2023-10-15 21:00:58 -0400 (Sun, 15 Oct 2023) EllapsedTime: 514.5 seconds RetCode: 0 Status: OK CheckDir: dittoSeq.Rcheck Warnings: 0