Package: dittoSeq Version: 1.12.2 Command: /home/biocbuild/bbs-3.17-bioc/R/bin/R CMD build --keep-empty-dirs --no-resave-data dittoSeq StartedAt: 2023-10-15 16:37:27 -0400 (Sun, 15 Oct 2023) EndedAt: 2023-10-15 16:39:35 -0400 (Sun, 15 Oct 2023) EllapsedTime: 127.8 seconds RetCode: 0 Status: OK PackageFile: dittoSeq_1.12.2.tar.gz PackageFileSize: 2.405 MiB