Package: dittoSeq Version: 1.12.2 Command: /Library/Frameworks/R.framework/Resources/bin/R CMD check --install=check:dittoSeq.install-out.txt --library=/Library/Frameworks/R.framework/Resources/library --no-vignettes --timings dittoSeq_1.12.2.tar.gz StartedAt: 2023-10-16 01:01:37 -0400 (Mon, 16 Oct 2023) EndedAt: 2023-10-16 01:21:26 -0400 (Mon, 16 Oct 2023) EllapsedTime: 1189.6 seconds RetCode: 0 Status: OK CheckDir: dittoSeq.Rcheck Warnings: 0