Package: dittoSeq Version: 1.12.2 Command: /Library/Frameworks/R.framework/Resources/bin/R CMD build --keep-empty-dirs --no-resave-data dittoSeq StartedAt: 2023-10-15 18:00:50 -0400 (Sun, 15 Oct 2023) EndedAt: 2023-10-15 18:06:16 -0400 (Sun, 15 Oct 2023) EllapsedTime: 325.5 seconds RetCode: 0 Status: OK PackageFile: dittoSeq_1.12.2.tar.gz PackageFileSize: 2.441 MiB