Package: dittoSeq Version: 1.12.2 Command: rm -rf dittoSeq.buildbin-libdir && mkdir dittoSeq.buildbin-libdir && /Users/biocbuild/BBS/utils/build-universal.sh dittoSeq_1.12.2.tar.gz /Library/Frameworks/R.framework/Resources/bin/R dittoSeq.buildbin-libdir StartedAt: 2023-10-16 09:18:11 -0400 (Mon, 16 Oct 2023) EndedAt: 2023-10-16 09:19:37 -0400 (Mon, 16 Oct 2023) EllapsedTime: 86.1 seconds RetCode: 0 Status: OK PackageFile: dittoSeq_1.12.2.tgz PackageFileSize: 1.935 MiB