Package: distinct Version: 1.12.2 Command: /home/biocbuild/bbs-3.17-bioc/R/bin/R CMD build --keep-empty-dirs --no-resave-data distinct StartedAt: 2023-10-15 16:37:21 -0400 (Sun, 15 Oct 2023) EndedAt: 2023-10-15 16:41:31 -0400 (Sun, 15 Oct 2023) EllapsedTime: 250.0 seconds RetCode: 0 Status: OK PackageFile: distinct_1.12.2.tar.gz PackageFileSize: 1.791 MiB