Package: distinct Version: 1.12.2 Command: rm -rf distinct.buildbin-libdir && mkdir distinct.buildbin-libdir && /Users/biocbuild/BBS/utils/build-universal.sh distinct_1.12.2.tar.gz /Library/Frameworks/R.framework/Resources/bin/R distinct.buildbin-libdir StartedAt: 2023-10-16 09:18:07 -0400 (Mon, 16 Oct 2023) EndedAt: 2023-10-16 09:22:39 -0400 (Mon, 16 Oct 2023) EllapsedTime: 272.5 seconds RetCode: 0 Status: OK PackageFile: distinct_1.12.2.tgz PackageFileSize: 2.021 MiB