Package: dir.expiry Version: 1.8.0 Command: F:\biocbuild\bbs-3.17-bioc\R\bin\R.exe CMD check --no-multiarch --install=check:dir.expiry.install-out.txt --library=F:\biocbuild\bbs-3.17-bioc\R\library --no-vignettes --timings dir.expiry_1.8.0.tar.gz StartedAt: 2023-10-16 01:34:34 -0400 (Mon, 16 Oct 2023) EndedAt: 2023-10-16 01:34:55 -0400 (Mon, 16 Oct 2023) EllapsedTime: 20.4 seconds RetCode: 0 Status: OK CheckDir: dir.expiry.Rcheck Warnings: 0