Package: dir.expiry Version: 1.8.0 Command: rm -rf dir.expiry.buildbin-libdir && mkdir dir.expiry.buildbin-libdir && F:\biocbuild\bbs-3.17-bioc\R\bin\R.exe CMD INSTALL --build --library=dir.expiry.buildbin-libdir dir.expiry_1.8.0.tar.gz StartedAt: 2023-10-16 08:42:43 -0400 (Mon, 16 Oct 2023) EndedAt: 2023-10-16 08:42:47 -0400 (Mon, 16 Oct 2023) EllapsedTime: 3.5 seconds RetCode: 0 Status: OK PackageFile: dir.expiry_1.8.0.zip PackageFileSize: 318.4 KiB