Package: dir.expiry Version: 1.8.0 Command: /home/biocbuild/bbs-3.17-bioc/R/bin/R CMD check --install=check:dir.expiry.install-out.txt --library=/home/biocbuild/bbs-3.17-bioc/R/site-library --timings dir.expiry_1.8.0.tar.gz StartedAt: 2023-10-15 20:51:29 -0400 (Sun, 15 Oct 2023) EndedAt: 2023-10-15 20:51:45 -0400 (Sun, 15 Oct 2023) EllapsedTime: 16.3 seconds RetCode: 0 Status: OK CheckDir: dir.expiry.Rcheck Warnings: 0