Package: dir.expiry Version: 1.8.0 Command: /home/biocbuild/bbs-3.17-bioc/R/bin/R CMD build --keep-empty-dirs --no-resave-data dir.expiry StartedAt: 2023-10-15 16:37:09 -0400 (Sun, 15 Oct 2023) EndedAt: 2023-10-15 16:37:14 -0400 (Sun, 15 Oct 2023) EllapsedTime: 4.3 seconds RetCode: 0 Status: OK PackageFile: dir.expiry_1.8.0.tar.gz PackageFileSize: 300.7 KiB