Package: dir.expiry Version: 1.8.0 Command: /Library/Frameworks/R.framework/Resources/bin/R CMD check --install=check:dir.expiry.install-out.txt --library=/Library/Frameworks/R.framework/Resources/library --no-vignettes --timings dir.expiry_1.8.0.tar.gz StartedAt: 2023-10-16 00:59:15 -0400 (Mon, 16 Oct 2023) EndedAt: 2023-10-16 00:59:55 -0400 (Mon, 16 Oct 2023) EllapsedTime: 40.4 seconds RetCode: 0 Status: OK CheckDir: dir.expiry.Rcheck Warnings: 0