Package: dir.expiry Version: 1.8.0 Command: /Library/Frameworks/R.framework/Resources/bin/R CMD build --keep-empty-dirs --no-resave-data dir.expiry StartedAt: 2023-10-15 17:59:55 -0400 (Sun, 15 Oct 2023) EndedAt: 2023-10-15 18:00:07 -0400 (Sun, 15 Oct 2023) EllapsedTime: 11.4 seconds RetCode: 0 Status: OK PackageFile: dir.expiry_1.8.0.tar.gz PackageFileSize: 300.6 KiB