Package: dir.expiry Version: 1.8.0 Command: rm -rf dir.expiry.buildbin-libdir && mkdir dir.expiry.buildbin-libdir && /Users/biocbuild/BBS/utils/build-universal.sh dir.expiry_1.8.0.tar.gz /Library/Frameworks/R.framework/Resources/bin/R dir.expiry.buildbin-libdir StartedAt: 2023-10-16 09:17:55 -0400 (Mon, 16 Oct 2023) EndedAt: 2023-10-16 09:18:01 -0400 (Mon, 16 Oct 2023) EllapsedTime: 6.7 seconds RetCode: 0 Status: OK PackageFile: dir.expiry_1.8.0.tgz PackageFileSize: 312.7 KiB