Package: diggit Version: 1.32.0 Command: rm -rf diggit.buildbin-libdir && mkdir diggit.buildbin-libdir && F:\biocbuild\bbs-3.17-bioc\R\bin\R.exe CMD INSTALL --build --library=diggit.buildbin-libdir diggit_1.32.0.tar.gz StartedAt: 2023-10-16 08:42:40 -0400 (Mon, 16 Oct 2023) EndedAt: 2023-10-16 08:43:00 -0400 (Mon, 16 Oct 2023) EllapsedTime: 19.9 seconds RetCode: 0 Status: OK PackageFile: diggit_1.32.0.zip PackageFileSize: 460.4 KiB