Package: diggit Version: 1.32.0 Command: /home/biocbuild/bbs-3.17-bioc/R/bin/R CMD build --keep-empty-dirs --no-resave-data diggit StartedAt: 2023-10-15 16:36:56 -0400 (Sun, 15 Oct 2023) EndedAt: 2023-10-15 16:39:18 -0400 (Sun, 15 Oct 2023) EllapsedTime: 142.0 seconds RetCode: 0 Status: OK PackageFile: diggit_1.32.0.tar.gz PackageFileSize: 203.2 KiB