Package: diggit Version: 1.32.0 Command: /Library/Frameworks/R.framework/Resources/bin/R CMD check --install=check:diggit.install-out.txt --library=/Library/Frameworks/R.framework/Resources/library --no-vignettes --timings diggit_1.32.0.tar.gz StartedAt: 2023-10-16 00:58:45 -0400 (Mon, 16 Oct 2023) EndedAt: 2023-10-16 01:05:43 -0400 (Mon, 16 Oct 2023) EllapsedTime: 417.9 seconds RetCode: 0 Status: WARNINGS CheckDir: diggit.Rcheck Warnings: 3