Package: diffcyt Version: 1.20.0 Command: rm -rf diffcyt.buildbin-libdir && mkdir diffcyt.buildbin-libdir && F:\biocbuild\bbs-3.17-bioc\R\bin\R.exe CMD INSTALL --build --library=diffcyt.buildbin-libdir diffcyt_1.20.0.tar.gz StartedAt: 2023-10-16 08:42:27 -0400 (Mon, 16 Oct 2023) EndedAt: 2023-10-16 08:43:02 -0400 (Mon, 16 Oct 2023) EllapsedTime: 35.0 seconds RetCode: 0 Status: OK PackageFile: diffcyt_1.20.0.zip PackageFileSize: 680.8 KiB