Package: diffcoexp Version: 1.20.0 Command: F:\biocbuild\bbs-3.17-bioc\R\bin\R.exe CMD check --no-multiarch --install=check:diffcoexp.install-out.txt --library=F:\biocbuild\bbs-3.17-bioc\R\library --no-vignettes --timings diffcoexp_1.20.0.tar.gz StartedAt: 2023-10-16 01:32:19 -0400 (Mon, 16 Oct 2023) EndedAt: 2023-10-16 01:35:27 -0400 (Mon, 16 Oct 2023) EllapsedTime: 188.3 seconds RetCode: 0 Status: OK CheckDir: diffcoexp.Rcheck Warnings: 0