Package: diffcoexp Version: 1.20.0 Command: /home/biocbuild/bbs-3.17-bioc/R/bin/R CMD build --keep-empty-dirs --no-resave-data diffcoexp StartedAt: 2023-10-15 16:36:15 -0400 (Sun, 15 Oct 2023) EndedAt: 2023-10-15 16:36:54 -0400 (Sun, 15 Oct 2023) EllapsedTime: 38.9 seconds RetCode: 0 Status: OK PackageFile: diffcoexp_1.20.0.tar.gz PackageFileSize: 127.8 KiB