Package: diffcoexp Version: 1.20.0 Command: /Library/Frameworks/R.framework/Resources/bin/R CMD build --keep-empty-dirs --no-resave-data diffcoexp StartedAt: 2023-10-15 17:57:31 -0400 (Sun, 15 Oct 2023) EndedAt: 2023-10-15 17:59:07 -0400 (Sun, 15 Oct 2023) EllapsedTime: 96.4 seconds RetCode: 0 Status: OK PackageFile: diffcoexp_1.20.0.tar.gz PackageFileSize: 294.1 KiB