Package: diffUTR Version: 1.8.0 Command: /home/biocbuild/bbs-3.17-bioc/R/bin/R CMD INSTALL diffUTR StartedAt: 2023-10-15 15:39:43 -0400 (Sun, 15 Oct 2023) EndedAt: 2023-10-15 15:40:25 -0400 (Sun, 15 Oct 2023) EllapsedTime: 42.5 seconds RetCode: 0 Status: OK