Package: diffUTR Version: 1.8.0 Command: /home/biocbuild/bbs-3.17-bioc/R/bin/R CMD build --keep-empty-dirs --no-resave-data diffUTR StartedAt: 2023-10-15 16:36:55 -0400 (Sun, 15 Oct 2023) EndedAt: 2023-10-15 16:38:08 -0400 (Sun, 15 Oct 2023) EllapsedTime: 74.0 seconds RetCode: 0 Status: OK PackageFile: diffUTR_1.8.0.tar.gz PackageFileSize: 1.299 MiB