Package: diffUTR Version: 1.8.0 Command: /Library/Frameworks/R.framework/Resources/bin/R CMD check --install=check:diffUTR.install-out.txt --library=/Library/Frameworks/R.framework/Resources/library --no-vignettes --timings diffUTR_1.8.0.tar.gz StartedAt: 2023-10-16 00:58:39 -0400 (Mon, 16 Oct 2023) EndedAt: 2023-10-16 01:11:16 -0400 (Mon, 16 Oct 2023) EllapsedTime: 756.6 seconds RetCode: 0 Status: OK CheckDir: diffUTR.Rcheck Warnings: 0