Package: diffUTR Version: 1.8.0 Command: /Library/Frameworks/R.framework/Resources/bin/R CMD build --keep-empty-dirs --no-resave-data diffUTR StartedAt: 2023-10-15 17:58:31 -0400 (Sun, 15 Oct 2023) EndedAt: 2023-10-15 18:01:29 -0400 (Sun, 15 Oct 2023) EllapsedTime: 177.9 seconds RetCode: 0 Status: OK PackageFile: diffUTR_1.8.0.tar.gz PackageFileSize: 1.326 MiB