Package: diffUTR Version: 1.8.0 Command: rm -rf diffUTR.buildbin-libdir && mkdir diffUTR.buildbin-libdir && /Users/biocbuild/BBS/utils/build-universal.sh diffUTR_1.8.0.tar.gz /Library/Frameworks/R.framework/Resources/bin/R diffUTR.buildbin-libdir StartedAt: 2023-10-16 09:17:54 -0400 (Mon, 16 Oct 2023) EndedAt: 2023-10-16 09:20:18 -0400 (Mon, 16 Oct 2023) EllapsedTime: 144.3 seconds RetCode: 0 Status: OK PackageFile: diffUTR_1.8.0.tgz PackageFileSize: 1.37 MiB