Package: diffHic Version: 1.32.0 Command: chmod a+r diffHic -R && F:\biocbuild\bbs-3.17-bioc\R\bin\R.exe CMD build --keep-empty-dirs --no-resave-data diffHic StartedAt: 2023-10-15 18:45:26 -0400 (Sun, 15 Oct 2023) EndedAt: 2023-10-15 18:47:32 -0400 (Sun, 15 Oct 2023) EllapsedTime: 126.8 seconds RetCode: 0 Status: OK PackageFile: diffHic_1.32.0.tar.gz PackageFileSize: 1.44 MiB