Package: diffHic Version: 1.32.0 Command: rm -rf diffHic.buildbin-libdir && mkdir diffHic.buildbin-libdir && F:\biocbuild\bbs-3.17-bioc\R\bin\R.exe CMD INSTALL --build --library=diffHic.buildbin-libdir diffHic_1.32.0.tar.gz StartedAt: 2023-10-16 08:42:32 -0400 (Mon, 16 Oct 2023) EndedAt: 2023-10-16 08:44:53 -0400 (Mon, 16 Oct 2023) EllapsedTime: 140.8 seconds RetCode: 0 Status: OK PackageFile: diffHic_1.32.0.zip PackageFileSize: 6.308 MiB