Package: diffHic Version: 1.32.0 Command: /Library/Frameworks/R.framework/Resources/bin/R CMD check --install=check:diffHic.install-out.txt --library=/Library/Frameworks/R.framework/Resources/library --no-vignettes --timings diffHic_1.32.0.tar.gz StartedAt: 2023-10-16 00:57:41 -0400 (Mon, 16 Oct 2023) EndedAt: 2023-10-16 01:11:39 -0400 (Mon, 16 Oct 2023) EllapsedTime: 837.7 seconds RetCode: 0 Status: WARNINGS CheckDir: diffHic.Rcheck Warnings: 2