Package: diffHic Version: 1.32.0 Command: /Library/Frameworks/R.framework/Resources/bin/R CMD build --keep-empty-dirs --no-resave-data diffHic StartedAt: 2023-10-15 17:58:02 -0400 (Sun, 15 Oct 2023) EndedAt: 2023-10-15 18:03:02 -0400 (Sun, 15 Oct 2023) EllapsedTime: 300.4 seconds RetCode: 0 Status: OK PackageFile: diffHic_1.32.0.tar.gz PackageFileSize: 1.517 MiB