Package: diffHic Version: 1.32.0 Command: rm -rf diffHic.buildbin-libdir && mkdir diffHic.buildbin-libdir && /Users/biocbuild/BBS/utils/build-universal.sh diffHic_1.32.0.tar.gz /Library/Frameworks/R.framework/Resources/bin/R diffHic.buildbin-libdir StartedAt: 2023-10-16 09:17:43 -0400 (Mon, 16 Oct 2023) EndedAt: 2023-10-16 09:24:09 -0400 (Mon, 16 Oct 2023) EllapsedTime: 385.9 seconds RetCode: 0 Status: OK PackageFile: diffHic_1.32.0.tgz PackageFileSize: 2.459 MiB