Package: diffGeneAnalysis Version: 1.82.0 Command: /home/biocbuild/bbs-3.17-bioc/R/bin/R CMD build --keep-empty-dirs --no-resave-data diffGeneAnalysis StartedAt: 2023-10-15 16:36:27 -0400 (Sun, 15 Oct 2023) EndedAt: 2023-10-15 16:36:31 -0400 (Sun, 15 Oct 2023) EllapsedTime: 3.6 seconds RetCode: 0 Status: OK PackageFile: diffGeneAnalysis_1.82.0.tar.gz PackageFileSize: 155.3 KiB