Package: diffGeneAnalysis Version: 1.82.0 Command: /Library/Frameworks/R.framework/Resources/bin/R CMD build --keep-empty-dirs --no-resave-data diffGeneAnalysis StartedAt: 2023-10-15 17:57:57 -0400 (Sun, 15 Oct 2023) EndedAt: 2023-10-15 17:58:12 -0400 (Sun, 15 Oct 2023) EllapsedTime: 14.5 seconds RetCode: 0 Status: OK PackageFile: diffGeneAnalysis_1.82.0.tar.gz PackageFileSize: 213.2 KiB