git_url: https://git.bioconductor.org/packages/diffGeneAnalysis git_branch: RELEASE_3_17 git_last_commit: fbf2c01 git_last_commit_date: 2023-04-25 09:42:19 -0400 (Tue, 25 Apr 2023) Package: diffGeneAnalysis Version: 1.82.0 Maintainer: Choudary Jagarlamudi MaintainerEmail: choudary.jagar at swosu.edu