Package: destiny Version: 3.14.0 Command: F:\biocbuild\bbs-3.17-bioc\R\bin\R.exe CMD INSTALL destiny StartedAt: 2023-10-15 16:42:50 -0400 (Sun, 15 Oct 2023) EndedAt: 2023-10-15 16:44:04 -0400 (Sun, 15 Oct 2023) EllapsedTime: 74.3 seconds RetCode: 0 Status: OK