Package: destiny Version: 3.14.0 Command: rm -rf destiny.buildbin-libdir && mkdir destiny.buildbin-libdir && F:\biocbuild\bbs-3.17-bioc\R\bin\R.exe CMD INSTALL --build --library=destiny.buildbin-libdir destiny_3.14.0.tar.gz StartedAt: 2023-10-16 08:41:56 -0400 (Mon, 16 Oct 2023) EndedAt: 2023-10-16 08:43:19 -0400 (Mon, 16 Oct 2023) EllapsedTime: 82.6 seconds RetCode: 0 Status: OK PackageFile: destiny_3.14.0.zip PackageFileSize: 1.725 MiB