Package: derfinderPlot Version: 1.34.0 Command: F:\biocbuild\bbs-3.17-bioc\R\bin\R.exe CMD INSTALL derfinderPlot StartedAt: 2023-10-15 16:32:29 -0400 (Sun, 15 Oct 2023) EndedAt: 2023-10-15 16:33:26 -0400 (Sun, 15 Oct 2023) EllapsedTime: 57.1 seconds RetCode: 0 Status: OK