Package: derfinderPlot Version: 1.34.0 Command: rm -rf derfinderPlot.buildbin-libdir && mkdir derfinderPlot.buildbin-libdir && F:\biocbuild\bbs-3.17-bioc\R\bin\R.exe CMD INSTALL --build --library=derfinderPlot.buildbin-libdir derfinderPlot_1.34.0.tar.gz StartedAt: 2023-10-16 08:41:50 -0400 (Mon, 16 Oct 2023) EndedAt: 2023-10-16 08:42:50 -0400 (Mon, 16 Oct 2023) EllapsedTime: 59.9 seconds RetCode: 0 Status: OK PackageFile: derfinderPlot_1.34.0.zip PackageFileSize: 955.8 KiB