Package: derfinderPlot Version: 1.34.0 Command: /home/biocbuild/bbs-3.17-bioc/R/bin/R CMD build --keep-empty-dirs --no-resave-data derfinderPlot StartedAt: 2023-10-15 16:34:50 -0400 (Sun, 15 Oct 2023) EndedAt: 2023-10-15 16:37:36 -0400 (Sun, 15 Oct 2023) EllapsedTime: 166.3 seconds RetCode: 0 Status: OK PackageFile: derfinderPlot_1.34.0.tar.gz PackageFileSize: 2.168 MiB