Package: derfinderPlot Version: 1.34.0 Command: rm -rf derfinderPlot.buildbin-libdir && mkdir derfinderPlot.buildbin-libdir && /Users/biocbuild/BBS/utils/build-universal.sh derfinderPlot_1.34.0.tar.gz /Library/Frameworks/R.framework/Resources/bin/R derfinderPlot.buildbin-libdir StartedAt: 2023-10-16 09:16:57 -0400 (Mon, 16 Oct 2023) EndedAt: 2023-10-16 09:19:43 -0400 (Mon, 16 Oct 2023) EllapsedTime: 166.7 seconds RetCode: 0 Status: OK PackageFile: derfinderPlot_1.34.0.tgz PackageFileSize: 2.296 MiB